BEGIN:VCALENDAR
VERSION:2.0
PRODID:-//ChamberMaster//Event Calendar 2.0//EN
METHOD:PUBLISH
X-PUBLISHED-TTL:P3D
REFRESH-INTERVAL:P3D
CALSCALE:GREGORIAN
BEGIN:VEVENT
DTSTART:20161025T220000Z
DTEND:20161026T000000Z
X-MICROSOFT-CDO-ALLDAYEVENT:FALSE
SUMMARY:Hanover Borough Trick-or-Treat Night
DESCRIPTION:
X-ALT-DESC;FMTTYPE=text/html:
LOCATION:
UID:e.1500.1235
SEQUENCE:3
DTSTAMP:20260422T073924Z
URL:https://business.hanoverchamber.com/events/details/hanover-borough-trick-or-treat-night-1235
END:VEVENT

END:VCALENDAR
