BEGIN:VCALENDAR
VERSION:2.0
PRODID:-//ChamberMaster//Event Calendar 2.0//EN
METHOD:PUBLISH
X-PUBLISHED-TTL:P3D
REFRESH-INTERVAL:P3D
CALSCALE:GREGORIAN
BEGIN:VEVENT
DTSTART:20150312T213000Z
DTEND:20150312T233000Z
X-MICROSOFT-CDO-ALLDAYEVENT:FALSE
SUMMARY:Hanover Area Young Professionals at the Amish Markets 03/12/15
DESCRIPTION:Please Join the Hanover Area Young Professional at the Amish Markets in Hanover!
X-ALT-DESC;FMTTYPE=text/html:Please Join the Hanover Area Young Professional at the Amish Markets in Hanover!
LOCATION:Amish Markets at Hanover 1649 Broadway (Rt 194) Hanover\, PA 17331
UID:e.1500.823
SEQUENCE:3
DTSTAMP:20260423T110507Z
URL:https://business.hanoverchamber.com/events/details/hanover-area-young-professionals-at-the-amish-markets-03-12-15-03-12-2015-823
END:VEVENT

END:VCALENDAR
