BEGIN:VCALENDAR
VERSION:2.0
PRODID:-//ChamberMaster//Event Calendar 2.0//EN
METHOD:PUBLISH
X-PUBLISHED-TTL:P3D
REFRESH-INTERVAL:P3D
CALSCALE:GREGORIAN
BEGIN:VEVENT
DTSTART:20170925T223000Z
DTEND:20170926T003000Z
X-MICROSOFT-CDO-ALLDAYEVENT:FALSE
SUMMARY:Hanover Area College & Career Night
DESCRIPTION:The Rotary Club of Hanover and Delone Catholic High School present:\n\nHanover Area College & Career Night. \n\n\n\nFor all high school studnets and their families.
X-ALT-DESC;FMTTYPE=text/html:The Rotary Club of Hanover and Delone Catholic High School present:<br />\nHanover Area College &amp\; Career Night.&nbsp\;<br />\n<br />\nFor all high school studnets and their families.&nbsp\;
LOCATION:Delone Catholic High School 140 S. Oxford Ave. McSherrystown\, PA 17344
UID:e.1500.3014
SEQUENCE:3
DTSTAMP:20260421T123616Z
URL:https://business.hanoverchamber.com/events/details/hanover-area-college-career-night-3014
END:VEVENT

END:VCALENDAR
