BEGIN:VCALENDAR
VERSION:2.0
PRODID:-//ChamberMaster//Event Calendar 2.0//EN
METHOD:PUBLISH
X-PUBLISHED-TTL:P3D
REFRESH-INTERVAL:P3D
CALSCALE:GREGORIAN
BEGIN:VEVENT
DTSTART:20160807T180000Z
DTEND:20160807T200000Z
X-MICROSOFT-CDO-ALLDAYEVENT:FALSE
SUMMARY:Hanover Area Arts Guild?s Second Open Exhibit
DESCRIPTION:The August exhibit\, at the Arts Guild's Art Downtown gallery\, will feature five categories: oil and acrylic\n\npaintings\; watercolor paintings\; other media\, including pastels\, encaustic\, collage\, mixed media and fiber\; threedimensional\n\nart\, such as jewelry and ceramics\; and photography and digital arts.
X-ALT-DESC;FMTTYPE=text/html:The August exhibit\, at the Arts Guild&rsquo\;s Art Downtown gallery\, will feature five categories: oil and acrylic<br />\npaintings\; watercolor paintings\; other media\, including pastels\, encaustic\, collage\, mixed media and fiber\; threedimensional<br />\nart\, such as jewelry and ceramics\; and photography and digital arts.
LOCATION:Art Downtown 32 Carlisle St Hanover\, PA 17331
UID:e.1500.1176
SEQUENCE:3
DTSTAMP:20260422T101714Z
URL:https://business.hanoverchamber.com/events/details/hanover-area-arts-guild-s-second-open-exhibit-08-07-2016-1176
END:VEVENT

END:VCALENDAR
