BEGIN:VCALENDAR
VERSION:2.0
PRODID:-//ChamberMaster//Event Calendar 2.0//EN
METHOD:PUBLISH
X-PUBLISHED-TTL:P3D
REFRESH-INTERVAL:P3D
CALSCALE:GREGORIAN
BEGIN:VEVENT
DTSTART:20161021T220000Z
DTEND:20161022T020000Z
X-MICROSOFT-CDO-ALLDAYEVENT:FALSE
SUMMARY:Halloween in the Park
DESCRIPTION:Hayride run 6 p.m.- 10 p.m. \n\nTrick or Treat 6 p.m.- 8:30 p.m.\n\n\n\n$12 donation per car- BRING FLASHLIGHTS\n\nReserve your Trick or Treat Campsite now!
X-ALT-DESC;FMTTYPE=text/html:Hayride&nbsp\;run 6 p.m.- 10 p.m.&nbsp\;<br />\nTrick or Treat 6 p.m.- 8:30 p.m.<br />\n<br />\n$12 donation per car- BRING FLASHLIGHTS<br />\nReserve your Trick or Treat Campsite now!
LOCATION:Codorus State Park 1066 Blooming Grove Rd. Hanover\, PA 17331
UID:e.1500.1249
SEQUENCE:3
DTSTAMP:20260422T055412Z
URL:https://business.hanoverchamber.com/events/details/halloween-in-the-park-1249
END:VEVENT

END:VCALENDAR
