BEGIN:VCALENDAR
VERSION:2.0
PRODID:-//ChamberMaster//Event Calendar 2.0//EN
METHOD:PUBLISH
X-PUBLISHED-TTL:P3D
REFRESH-INTERVAL:P3D
CALSCALE:GREGORIAN
BEGIN:VEVENT
DTSTART:20150314T160000Z
DTEND:20150314T200000Z
X-MICROSOFT-CDO-ALLDAYEVENT:FALSE
SUMMARY:Green Wines and Good Times at Adams County Winery Wine Shop
DESCRIPTION:To kick off St Patrick?s Day join us for some delicious Potato Soup\, Irish Soda Bread and a glass of Irish Kiss. No reservations are required at either location. Cost per guest is $10 plus tax. For more information or questions please see our website\, www.adamscountywinery.com\, or call 717-334-4631.
X-ALT-DESC;FMTTYPE=text/html:To kick off St Patrick?s Day join us for some delicious Potato Soup\, Irish Soda Bread and a glass of Irish Kiss. No reservations are required at either location. Cost per guest is $10 plus tax. For more information or questions please see our website\, www.adamscountywinery.com\, or call 717-334-4631.
LOCATION:Adams County Winery Wine Shop 25 Chambersburg St Gettysburg PA 17325
UID:e.1500.847
SEQUENCE:3
DTSTAMP:20260423T110734Z
URL:https://business.hanoverchamber.com/events/details/green-wines-and-good-times-at-adams-county-winery-wine-shop-03-14-2015-847
END:VEVENT

END:VCALENDAR
