BEGIN:VCALENDAR
VERSION:2.0
PRODID:-//ChamberMaster//Event Calendar 2.0//EN
METHOD:PUBLISH
X-PUBLISHED-TTL:P3D
REFRESH-INTERVAL:P3D
CALSCALE:GREGORIAN
BEGIN:VEVENT
DTSTART:20150516T170000Z
DTEND:20150516T190000Z
X-MICROSOFT-CDO-ALLDAYEVENT:FALSE
SUMMARY:Grape Growing 101 Class at Adams County Winery
DESCRIPTION:This class conducted by our Farm Manager offers the beginner or home grower the basics of what they need to know for planting\, maintaining and harvesting their own grape vines. This class will take place in part in the vineyard rain or shine so dress appropriately. Ticket cost is $30 and advance paid reservations are required. For more information please visit our website\, www.adamscountywinery.com\, or call 717-334-4631.
X-ALT-DESC;FMTTYPE=text/html:This class conducted by our Farm Manager offers the beginner or home grower the basics of what they need to know for planting\, maintaining and harvesting their own grape vines. This class will take place in part in the vineyard rain or shine so dress appropriately. Ticket cost is $30 and advance paid reservations are required. For more information please visit our website\, www.adamscountywinery.com\, or call 717-334-4631.
LOCATION:Adams County Winery 251 Peach Tree Rd Orrtanna PA 17353
UID:e.1500.864
SEQUENCE:3
DTSTAMP:20260423T070525Z
URL:https://business.hanoverchamber.com/events/details/grape-growing-101-class-at-adams-county-winery-05-16-2015-864
END:VEVENT

END:VCALENDAR
