BEGIN:VCALENDAR
VERSION:2.0
PRODID:-//ChamberMaster//Event Calendar 2.0//EN
METHOD:PUBLISH
X-PUBLISHED-TTL:P3D
REFRESH-INTERVAL:P3D
CALSCALE:GREGORIAN
BEGIN:VEVENT
DTSTART:20170111T160000Z
DTEND:20170111T170000Z
X-MICROSOFT-CDO-ALLDAYEVENT:FALSE
SUMMARY:Grand Opening & Ribbon Cutting at Burger King
DESCRIPTION:Come celebrate with us at our Grand Opening event. The Ribbon Cutting will be held at 11 a.m.\, followed by a complimentary lunch!
X-ALT-DESC;FMTTYPE=text/html:Come celebrate with us at our Grand Opening event. The Ribbon Cutting will be held at 11 a.m.\, followed by a complimentary lunch!
LOCATION:Burger King 779 Baltimore St.\, Hanover PA
UID:e.1500.2293
SEQUENCE:3
DTSTAMP:20260422T011211Z
URL:https://business.hanoverchamber.com/events/details/grand-opening-ribbon-cutting-at-burger-king-2293
END:VEVENT

END:VCALENDAR
