BEGIN:VCALENDAR
VERSION:2.0
PRODID:-//ChamberMaster//Event Calendar 2.0//EN
METHOD:PUBLISH
X-PUBLISHED-TTL:P3D
REFRESH-INTERVAL:P3D
CALSCALE:GREGORIAN
BEGIN:VEVENT
DTSTART:20170407T123000Z
DTEND:20170407T183000Z
X-MICROSOFT-CDO-ALLDAYEVENT:FALSE
SUMMARY:Gettysburg Campus HACC Community Education Day
DESCRIPTION:For adults who want to breakout from their everyday routine\, a unique one-day learning opportunity will be offered on Friday\, April 7th from 8:30 a.m.   2:30 p.m. at the Gettysburg Campus of HACC\, Central Pennsylvania's Community College. Few of us find enough time for ourselves.  The day of learning will allow individuals to feed a passion\, explore an interest and learn something new.   The Gettysburg Campus Community Education Day will offer 16 informative educational sessions.  Participants will have an opportunity to choose three sessions that most interest them.  Class topics range from estate planning\, genealogy\, history\, religion\, tax filing\, entertainment\, and technology.  For a complete listing of class sessions and to download the registration brochure\, go to  hacc.edu/GettysburgCommunity or call the Gettysburg Campus at 717-337-3855 ext. 119903.   A continental breakfast and bagged lunch is also included in the $49.00 registration fee.
X-ALT-DESC;FMTTYPE=text/html:<span style="color:black\;"><span style="font-family:times new roman\,serif\;"><span style="font-size:12.0pt\;">For adults who want to breakout from their everyday routine\, a unique one-day learning opportunity will be offered on Friday\, April 7<sup>th</sup> from 8:30 a.m. &ndash\; 2:30 p.m. at the Gettysburg Campus of HACC\, Central Pennsylvania&#39\;s Community College. </span></span></span><span style="font-family:times new roman\,serif\;"><span style="font-size:12.0pt\;">Few of us find enough time for ourselves.&nbsp\; The day of learning will allow individuals to </span></span><span style="font-family:times new roman\,serif\;"><span style="font-size:12.0pt\;">feed a passion\, explore an interest and learn something new. &nbsp\; The Gettysburg Campus Community Education Day will </span></span><span style="font-family:times new roman\,serif\;"><span style="font-size:12.0pt\;">offer 16 informative educational sessions.&nbsp\; Participants will have an opportunity to choose three sessions that most interest them.&nbsp\; Class topics range from estate planning\, genealogy\, history\, religion\, tax filing\, entertainment\, and technology.&nbsp\; For a complete listing of class sessions and to download the registration brochure\, go to</span></span><span style="color:#1F497D\;"> &nbsp\;<a href="http://www.hacc.edu/GettysburgCommunity">hacc.edu/GettysburgCommunity</a></span><span style="font-family:times new roman\,serif\;"><span style="font-size:12.0pt\;"> or call the Gettysburg Campus at 717-337-3855 ext. 119903.&nbsp\;&nbsp\; A continental breakfast and bagged lunch is also included in the $49.00 registration fee.&nbsp\;</span></span>
LOCATION:Gettysburg Campus of HACC\, Central Pennsylvania's Community College
UID:e.1500.2484
SEQUENCE:3
DTSTAMP:20260421T202201Z
URL:https://business.hanoverchamber.com/events/details/gettysburg-campus-hacc-community-education-day-2484
END:VEVENT

END:VCALENDAR
