BEGIN:VCALENDAR
VERSION:2.0
PRODID:-//ChamberMaster//Event Calendar 2.0//EN
METHOD:PUBLISH
X-PUBLISHED-TTL:P3D
REFRESH-INTERVAL:P3D
CALSCALE:GREGORIAN
BEGIN:VEVENT
DTSTART:20150620T130000Z
DTEND:20150620T200000Z
X-MICROSOFT-CDO-ALLDAYEVENT:FALSE
SUMMARY:Garden Tour
DESCRIPTION:Small Town Country Gardens\, Seminars\, and a Plant Sale are features of this event on Saturday\, June 20\, 2015\, from 9:00 am until 4:00 pm\, rain or shine. Tickets are $8.00 in advance and $10.00 day of event. Call Gordy Nell at 426-2786 for tickets. Breakfast sandwiches and a wide variety of lunch selections will be available in the yard of the Maytown/East Donegal Museum. The Museum and Gift Shop will be open.
X-ALT-DESC;FMTTYPE=text/html:Small Town Country Gardens\, Seminars\, and a Plant Sale are features of this event on Saturday\, June 20\, 2015\, from 9:00 am until 4:00 pm\, rain or shine. Tickets are $8.00 in advance and $10.00 day of event. Call Gordy Nell at 426-2786 for tickets. Breakfast sandwiches and a wide variety of lunch selections will be available in the yard of the Maytown/East Donegal Museum. The Museum and Gift Shop will be open.
LOCATION:4 West High Street \, Maytown\, Pa. 17550
UID:e.1500.901
SEQUENCE:3
DTSTAMP:20260423T052651Z
URL:https://business.hanoverchamber.com/events/details/garden-tour-06-20-2015-901
END:VEVENT

END:VCALENDAR
