BEGIN:VCALENDAR
VERSION:2.0
PRODID:-//ChamberMaster//Event Calendar 2.0//EN
METHOD:PUBLISH
X-PUBLISHED-TTL:P3D
REFRESH-INTERVAL:P3D
CALSCALE:GREGORIAN
BEGIN:VEVENT
DTSTART:20170723T180000Z
DTEND:20170723T200000Z
X-MICROSOFT-CDO-ALLDAYEVENT:FALSE
SUMMARY:Funny Business
DESCRIPTION:Funny Business features characters that you will recognize from around the water cooler. The upbeat musical from Daniel Abrahamson (music and lyrics) and Daniel Falk and Rachel Brittain (book) features a catchy\, original pop-musical score.\n\nCome see all the fun at Hanover Little Theatre\, 360 Blooming Grove Road\, Hanover. Directed by Sally Chase\, the show will have 8 p.m. performances on July 14-15 and 20-22 and 2 p.m. matinees on July 16 and 23.\n\n\n\nThe show contains adult themes and language and is not recommended for children.\n\n \n\nThe theatre will once again raise funds for a local nonprofit community partner during the production of Funny Business. The partner for this show will be Main Street Hanover. \n\n\n\nThe theatre will donate $2 for every ticket sold to the Saturday\, July 15\, show to the Main Street. Matching donations from two anonymous patrons as well as Sommer & O'Donnell - Attorneys at Law will generate an additional $6 for every person attending that performance. Finally\, donations for Main Street will be accepted at all seven performances.\n\n\n\nThe cast features Suzanne Williamson as Maxine\, the lovable yet inappropriate office manager\, Adam Bish as Jack\, the awkward guitar-playing intern and Sarah Zimmermann as Brie\, the perky and scheming receptionist. Mike Jones will play Kevin and the voice of the CEO. Hanover Little Theatre newcomers include Joel Collier as Marcus\, the smooth talking sales rep\, and Kelly Carroll as Diane\, the tough-as-nails marketing manager.\n\n\n\nOnline tickets are available at www.hanoverlittletheatre.com. You can also call 637-5297 to reserve tickets or visit the box office hours during the hours listed to the left. All tickets are $15. There will be a $2 charge for all phone orders and a $1 charge for any tickets delivered through the mail.\n\n\n\nThere are discounts available for students and seniors as well as groups of 10 or more. Plan a group outing and save money.
X-ALT-DESC;FMTTYPE=text/html:<em><span style="font-size:9.5pt\;">Funny Business</span></em><span style="font-size:9.5pt\;">&nbsp\;features characters that you will recognize from around the water cooler. The upbeat musical from Daniel Abrahamson (music and lyrics) and Daniel Falk and Rachel Brittain (book) features a catchy\, original pop-musical score.</span><br />\n<span style="font-size:9.5pt\;">Come see all the fun at Hanover Little Theatre\, 360 Blooming Grove Road\, Hanover.&nbsp\;Directed by Sally Chase\, the show will have 8 p.m. performances on July 14-15 and 20-22 and 2 p.m. matinees on July 16 and 23.</span><br />\n<br />\n<span style="font-size:9.5pt\;">The show contains adult themes and language and is not recommended for children.</span><br />\n&nbsp\;<br />\n<strong><span style="font-size:9.5pt\;">The theatre will once again raise funds for a local nonprofit community partner during the production of&nbsp\;<em>Funny Business</em>. The partner for this show will be Main Street Hanover.&nbsp\;<br />\n<br />\nThe theatre will donate $2 for every ticket sold to the Saturday\, July 15\, show to the Main Street. Matching donations from two anonymous patrons as well as Sommer &amp\; O&rsquo\;Donnell - Attorneys at Law will generate an additional $6 for every person attending that performance. Finally\, donations for Main Street will be accepted at all seven performances.</span></strong><br />\n<br />\n<span style="font-size:9.5pt\;">The cast features Suzanne Williamson as Maxine\, the lovable yet inappropriate office manager\, Adam Bish as Jack\, the&nbsp\;awkward guitar-playing intern and Sarah Zimmermann as Brie\, the perky and scheming receptionist. Mike Jones will play Kevin and the voice of the CEO. Hanover Little Theatre newcomers include Joel Collier as Marcus\, the smooth talking sales rep\, and Kelly Carroll as Diane\, the tough-as-nails marketing manager.</span><br />\n<br />\n<span style="font-size:9.5pt\;">Online tickets are available at&nbsp\;<a href="http://www.hanoverlittletheatre.com/" target="_blank">www.hanoverlittletheatre.com</a>. You can also call 637-5297 to reserve tickets or visit the box office hours during the hours listed to the left. All tickets are $15. There will be a $2 charge for all phone orders and a $1 charge for any tickets delivered through the mail.<br />\n<br />\nThere are discounts available for students and seniors as well as groups of 10 or more. Plan a group outing and save money.</span>
LOCATION:Hanover Little Theater 360 Blooming Grove Rd.\, Hanover
UID:e.1500.2994
SEQUENCE:3
DTSTAMP:20260421T152903Z
URL:https://business.hanoverchamber.com/events/details/funny-business-2994
END:VEVENT

END:VCALENDAR
