BEGIN:VCALENDAR
VERSION:2.0
PRODID:-//ChamberMaster//Event Calendar 2.0//EN
METHOD:PUBLISH
X-PUBLISHED-TTL:P3D
REFRESH-INTERVAL:P3D
CALSCALE:GREGORIAN
BEGIN:VEVENT
DTSTART:20170501T213000Z
DTEND:20170501T230000Z
X-MICROSOFT-CDO-ALLDAYEVENT:FALSE
SUMMARY:Freedom from Smoking Course
DESCRIPTION:Weather you are ready to quite today or in the near future\, learn about the proven ways to stop smoking and determine which method is best for you!
X-ALT-DESC;FMTTYPE=text/html:Weather you are ready to quite today or in the near future\, learn about the proven ways to stop smoking and determine which method is best for you!
LOCATION:Hillside Medical Center 250 Fame Ave. Suite 200\, Hanover\, PA 17331
UID:e.1500.2497
SEQUENCE:3
DTSTAMP:20260421T184600Z
URL:https://business.hanoverchamber.com/events/details/freedom-from-smoking-course-2497
END:VEVENT

END:VCALENDAR
