BEGIN:VCALENDAR
VERSION:2.0
PRODID:-//ChamberMaster//Event Calendar 2.0//EN
METHOD:PUBLISH
X-PUBLISHED-TTL:P3D
REFRESH-INTERVAL:P3D
CALSCALE:GREGORIAN
BEGIN:VEVENT
DTSTART:20150815T130000Z
DTEND:20150815T170000Z
X-MICROSOFT-CDO-ALLDAYEVENT:FALSE
SUMMARY:Family Fun at The Markets
DESCRIPTION:Wendy Hartman will be at The Markets at Hanover with FREE balloons\, face painting\, and fun for children. We'll also have our FREE indoor bounce house open. Enjoy!
X-ALT-DESC;FMTTYPE=text/html:Wendy Hartman will be at The Markets at Hanover with FREE balloons\, face painting\, and fun for children. We&#39\;ll also have our FREE indoor bounce house open. Enjoy!
LOCATION:The Markets at Hanover 1649 Broadway Hanover\, PA 17331
UID:e.1500.953
SEQUENCE:3
DTSTAMP:20260423T024221Z
URL:https://business.hanoverchamber.com/events/details/family-fun-at-the-markets-08-15-2015-953
END:VEVENT

END:VCALENDAR
