BEGIN:VCALENDAR
VERSION:2.0
PRODID:-//ChamberMaster//Event Calendar 2.0//EN
METHOD:PUBLISH
X-PUBLISHED-TTL:P3D
REFRESH-INTERVAL:P3D
CALSCALE:GREGORIAN
BEGIN:VEVENT
DTSTART:20170811T180000Z
DTEND:20170811T200000Z
X-MICROSOFT-CDO-ALLDAYEVENT:FALSE
SUMMARY:Facebook Live Q&A: Getting Real About Real Estate Closings
DESCRIPTION:Planning to purchase a home? Not sure where to start?\n\n\n\nWe can help! \n\n\n\nTune in to Stock and Leader's Facebook Live Q&A session and let Real Estate Attorneys Dave Jones and Peter Ruth answer your questions on the homebuying process IN REAL TIME!\n\nFind us on Facebook on August 11 from 2:00   4:00 p.m.\n\n Submit questions in advance to enk@stockandleader.com.
X-ALT-DESC;FMTTYPE=text/html:<p>Planning to purchase a home? Not sure where to start?<br />\n<br />\nWe can help!&nbsp\;<br />\n<br />\nTune in to <a href="http://www.stockandleader.com/">Stock and Leader&#39\;s </a>Facebook Live Q&amp\;A session and let Real Estate&nbsp\;<a href="http://www.stockandleader.com/attorney/david-a-jones-ii" rel="noreferrer noopener nofollow noopener noreferrer nofollow" style="box-sizing: border-box\; margin: 0px\; padding: 0px\; background-color: transparent\; text-decoration-line: none\; line-height: inherit\; transition: all 350ms ease\; backface-visibility: hidden\; transform: translateZ(0px) scale(1\, 1)\; border-bottom: 1px dotted rgb(27\, 87\, 50)\;" target="_blank">Attorneys Dave Jones</a>&nbsp\;and&nbsp\;<a href="http://www.stockandleader.com/attorney/peter-t-ruth" rel="noreferrer noopener nofollow noopener noreferrer nofollow" style="box-sizing: border-box\; margin: 0px\; padding: 0px\; background-color: transparent\; text-decoration-line: none\; line-height: inherit\; transition: all 350ms ease\; backface-visibility: hidden\; transform: translateZ(0px) scale(1\, 1)\; border-bottom: 1px dotted rgb(27\, 87\, 50)\;" target="_blank">Peter Ruth</a>&nbsp\;answer your questions on the homebuying process IN REAL TIME!</p>\n\n<p><a href="https://www.facebook.com/StockandLeader/">Find us on Facebook</a> on August 11 from 2:00 &ndash\; 4:00 p.m.</p>\n\n<p>&nbsp\;Submit questions in advance to <a href="mailto:enk@stockandleader.com?subject=Question%20for%20FB%20Live%20Q%26A%20-%20August%2011">enk@stockandleader.com</a>.</p>\n
LOCATION:
UID:e.1500.2998
SEQUENCE:3
DTSTAMP:20260421T153649Z
URL:https://business.hanoverchamber.com/events/details/facebook-live-q-a-getting-real-about-real-estate-closings-2998
END:VEVENT

END:VCALENDAR
