BEGIN:VCALENDAR
VERSION:2.0
PRODID:-//ChamberMaster//Event Calendar 2.0//EN
METHOD:PUBLISH
X-PUBLISHED-TTL:P3D
REFRESH-INTERVAL:P3D
CALSCALE:GREGORIAN
BEGIN:VEVENT
DTSTART:20160921T113000Z
DTEND:20160922T010000Z
X-MICROSOFT-CDO-ALLDAYEVENT:FALSE
SUMMARY:Eye-Opener Breakfast Breakfast 09/21/2016
DESCRIPTION:Join Us for our September Eye-Opener Breakfast\, sponsored by APPI Energy.
X-ALT-DESC;FMTTYPE=text/html:Join Us for our September Eye-Opener Breakfast\, sponsored by APPI Energy.&nbsp\;
LOCATION:Cross Keys Village\, Nicarry Meetinghouse 2990 Carlisle Pike\, New Oxford\, PA 17350
UID:e.1500.1019
SEQUENCE:3
DTSTAMP:20260422T075442Z
URL:https://business.hanoverchamber.com/events/details/eye-opener-breakfast-breakfast-09-21-2016-09-21-2016-1019
END:VEVENT

END:VCALENDAR
