BEGIN:VCALENDAR
VERSION:2.0
PRODID:-//ChamberMaster//Event Calendar 2.0//EN
METHOD:PUBLISH
X-PUBLISHED-TTL:P3D
REFRESH-INTERVAL:P3D
CALSCALE:GREGORIAN
BEGIN:VEVENT
DTSTART:20170816T113000Z
DTEND:20170816T123000Z
X-MICROSOFT-CDO-ALLDAYEVENT:FALSE
SUMMARY:Eye Opener Breakfast 08/16/2017
DESCRIPTION:Come Join Us For Our Eye Opener Breakfast!\n\nSponsored by Glatfelter Agency
X-ALT-DESC;FMTTYPE=text/html:<strong>Come Join Us For Our Eye Opener Breakfast!<br />\nSponsored by Glatfelter&nbsp\;Agency</strong>
LOCATION:Dutch Country Restaurant 946 Baltimore St Hanover\, PA 17331
UID:e.1500.1222
SEQUENCE:3
DTSTAMP:20260421T151625Z
URL:https://business.hanoverchamber.com/events/details/eye-opener-breakfast-08-16-2017-1222
END:VEVENT

END:VCALENDAR
