BEGIN:VCALENDAR
VERSION:2.0
PRODID:-//ChamberMaster//Event Calendar 2.0//EN
METHOD:PUBLISH
X-PUBLISHED-TTL:P3D
REFRESH-INTERVAL:P3D
CALSCALE:GREGORIAN
BEGIN:VEVENT
DTSTART:20160720T113000Z
DTEND:20160720T123000Z
X-MICROSOFT-CDO-ALLDAYEVENT:FALSE
SUMMARY:Eye Opener Breakfast 07/20/2016
DESCRIPTION:Come Join Us For Our Eye Opener Breakfast!\n\nSponsored by Hanover Hospital
X-ALT-DESC;FMTTYPE=text/html:<strong>Come Join Us For Our Eye Opener Breakfast!<br />\nSponsored by Hanover Hospital&nbsp\;</strong>
LOCATION:YMCA 500 George St. Hanover\, PA 17331
UID:e.1500.1017
SEQUENCE:3
DTSTAMP:20260422T101935Z
URL:https://business.hanoverchamber.com/events/details/eye-opener-breakfast-07-20-2016-07-20-2016-1017
END:VEVENT

END:VCALENDAR
