BEGIN:VCALENDAR
VERSION:2.0
PRODID:-//ChamberMaster//Event Calendar 2.0//EN
METHOD:PUBLISH
X-PUBLISHED-TTL:P3D
REFRESH-INTERVAL:P3D
CALSCALE:GREGORIAN
BEGIN:VEVENT
DTSTART:20170719T113000Z
DTEND:20170719T123000Z
X-MICROSOFT-CDO-ALLDAYEVENT:FALSE
SUMMARY:Eye Opener Breakfast- 07/19/2017
DESCRIPTION:Come Join Us For Our Eye Opener Breakfast!\n\nSponsored by Hanover Hospital
X-ALT-DESC;FMTTYPE=text/html:<strong>Come Join Us For Our Eye Opener Breakfast!<br />\nSponsored by Hanover Hospital</strong>
LOCATION:Bay City Restaurant 110 Eisenhower Drive Hanover\, PA 17331
UID:e.1500.1221
SEQUENCE:3
DTSTAMP:20260421T165308Z
URL:https://business.hanoverchamber.com/events/details/eye-opener-breakfast-07-19-2017-1221
END:VEVENT

END:VCALENDAR
