BEGIN:VCALENDAR
VERSION:2.0
PRODID:-//ChamberMaster//Event Calendar 2.0//EN
METHOD:PUBLISH
X-PUBLISHED-TTL:P3D
REFRESH-INTERVAL:P3D
CALSCALE:GREGORIAN
BEGIN:VEVENT
DTSTART:20160420T113000Z
DTEND:20160420T123000Z
X-MICROSOFT-CDO-ALLDAYEVENT:FALSE
SUMMARY:Eye Opener Breakfast 04/20/2016
DESCRIPTION:Come Join Us For Our Eye Opener Breakfast\,\n\nSponsored by ComForCare
X-ALT-DESC;FMTTYPE=text/html:<strong>Come Join Us For Our Eye Opener Breakfast\,<br />\nSponsored by ComForCare</strong>
LOCATION:Hanover High School 401 Moul Ave\, Hanover\, PA 17331
UID:e.1500.1014
SEQUENCE:3
DTSTAMP:20260422T150035Z
URL:https://business.hanoverchamber.com/events/details/eye-opener-breakfast-04-20-2016-04-20-2016-1014
END:VEVENT

END:VCALENDAR
