BEGIN:VCALENDAR
VERSION:2.0
PRODID:-//ChamberMaster//Event Calendar 2.0//EN
METHOD:PUBLISH
X-PUBLISHED-TTL:P3D
REFRESH-INTERVAL:P3D
CALSCALE:GREGORIAN
BEGIN:VEVENT
DTSTART:20150318T113000Z
DTEND:20150318T123000Z
X-MICROSOFT-CDO-ALLDAYEVENT:FALSE
SUMMARY:Eye Opener Breakfast 03/18/2015
DESCRIPTION:Come Join Us For Our Eye Opener Breakfast!\n\nSponsored by Penn National Insurance!
X-ALT-DESC;FMTTYPE=text/html:<strong>Come Join Us For Our Eye Opener Breakfast!<br />\nSponsored by Penn National Insurance!</strong>
LOCATION:Conewago Valley Intermediate School 175 700 Road New Oxford\, PA 17350
UID:e.1500.773
SEQUENCE:3
DTSTAMP:20260423T105630Z
URL:https://business.hanoverchamber.com/events/details/eye-opener-breakfast-03-18-2015-03-18-2015-773
END:VEVENT

END:VCALENDAR
