BEGIN:VCALENDAR
VERSION:2.0
PRODID:-//ChamberMaster//Event Calendar 2.0//EN
METHOD:PUBLISH
X-PUBLISHED-TTL:P3D
REFRESH-INTERVAL:P3D
CALSCALE:GREGORIAN
BEGIN:VEVENT
DTSTART:20150218T123000Z
DTEND:20150218T133000Z
X-MICROSOFT-CDO-ALLDAYEVENT:FALSE
SUMMARY:Eye Opener Breakfast 02/18/2015
DESCRIPTION:Come Join Us For Our Eye Opener Breakfast!\n\nSponsored by Hoffman Homes!
X-ALT-DESC;FMTTYPE=text/html:<strong>Come Join Us For Our Eye Opener Breakfast!<br />\nSponsored by Hoffman Homes!</strong>
LOCATION:Hanover Senior High School 401 Moul Avenue Hanover\, PA 17331
UID:e.1500.772
SEQUENCE:3
DTSTAMP:20260425T122224Z
URL:https://business.hanoverchamber.com/events/details/eye-opener-breakfast-02-18-2015-02-18-2015-772
END:VEVENT

END:VCALENDAR
