BEGIN:VCALENDAR
VERSION:2.0
PRODID:-//ChamberMaster//Event Calendar 2.0//EN
METHOD:PUBLISH
X-PUBLISHED-TTL:P3D
REFRESH-INTERVAL:P3D
CALSCALE:GREGORIAN
BEGIN:VEVENT
DTSTART:20170228T163000Z
DTEND:20170228T180000Z
X-MICROSOFT-CDO-ALLDAYEVENT:FALSE
SUMMARY:Environmental Considerations in Real Estate Transactions
DESCRIPTION:Stock and Leader\, Attorneys at Law\, is teaming up with August Mack Environmental for a lunch program addressing practical solutions for completing real estate deals on environmentally-impaired property.\n\n\n\nLearn about:\n\n	Initial due diligence - from site assessments to site investigations.\n	Financial and technical strategies for dealing with adverse environmental findings.\n	Real-life case studies on real environmental transactions.\n	Pennsylvania's environmental regulations.
X-ALT-DESC;FMTTYPE=text/html:Stock and Leader\, Attorneys at Law\, is teaming up with August Mack Environmental&nbsp\;for a lunch program addressing practical solutions for completing real estate deals&nbsp\;on environmentally-impaired property.<br />\n<br />\nLearn about:\n<ul>\n	<li>Initial due diligence - from site assessments to site investigations.</li>\n	<li>Financial and technical strategies for dealing with adverse environmental findings.</li>\n	<li>Real-life case studies on real environmental transactions.</li>\n	<li>Pennsylvania&rsquo\;s environmental regulations.</li>\n</ul>\n
LOCATION:Out Door Country Club 1157 Detwiler Drive York\, PA 17404
UID:e.1500.2294
SEQUENCE:3
DTSTAMP:20260421T231613Z
URL:https://business.hanoverchamber.com/events/details/environmental-considerations-in-real-estate-transactions-2294
END:VEVENT

END:VCALENDAR
