BEGIN:VCALENDAR
VERSION:2.0
PRODID:-//ChamberMaster//Event Calendar 2.0//EN
METHOD:PUBLISH
X-PUBLISHED-TTL:P3D
REFRESH-INTERVAL:P3D
CALSCALE:GREGORIAN
BEGIN:VEVENT
DTSTART:20171010T120000Z
DTEND:20171010T193000Z
X-MICROSOFT-CDO-ALLDAYEVENT:FALSE
SUMMARY:Eighth Annual Diversity Summit
DESCRIPTION:Strong Community. Better Future. Working together to promote multicultural understanding in the 21st Century.  Plan on joining us for our 8th Annual Diversity Summit. This year's keynote speakers include: Jeremy Poincenot\, A Golfer who lost his sight & found his calling and Deo Mwano\, Motivational Speaker on Education\, Leadership & Social Justice   Our Continued Goals include: The Diversity Summit's GOALS are intended to: *Share best practices in achieving diversity in a competitive market. *Equip employers with essential tools to attract\, promote\, and retain a diverse workforce.*Reevaluate the strengths of diversity through participation in a number of interactive sessions. *Visualize a common goal for the region through dialogue. *Engage participants in stimulating discussions regarding the impact of globalization on diversity. *Educate the best ways to interact with and relate to individuals from different backgrounds and how it can go a long way towards eliminating biases and misconceptions.
X-ALT-DESC;FMTTYPE=text/html:<span style="color:#666666\;"><span style="font-family:segoe ui\,sans-serif\;"><span style="font-size:10.5pt\;">Strong Community. Better Future. Working&nbsp\;together to promote multicultural understanding in the 21st Century.&nbsp\; Plan on joining us for our 8th Annual Diversity Summit. This year&#39\;s keynote speakers include: Jeremy Poincenot\, A Golfer who lost his sight &amp\; found his calling and Deo Mwano\, Motivational Speaker on Education\, Leadership &amp\; Social Justice &nbsp\; Our Continued Goals include: The Diversity Summit&rsquo\;s GOALS are intended to: *Share best practices in achieving diversity in a competitive market. *Equip employers with essential tools to attract\, promote\, and retain a diverse workforce.*Reevaluate the strengths of diversity through&nbsp\;participation in a number of interactive sessions. *Visualize a common goal for the region through dialogue. *Engage participants in stimulating discussions&nbsp\;regarding the impact of globalization on&nbsp\;diversity. *Educate the best ways to interact with and relate to individuals from different backgrounds and how it can go a long way towards&nbsp\;eliminating biases and misconceptions. &nbsp\;&nbsp\;</span></span></span>
LOCATION:South Western High School 200 Bowman Rd. Hanover\, PA 17331
UID:e.1500.3008
SEQUENCE:3
DTSTAMP:20260421T104527Z
URL:https://business.hanoverchamber.com/events/details/eighth-annual-diversity-summit-3008
END:VEVENT

END:VCALENDAR
