BEGIN:VCALENDAR
VERSION:2.0
PRODID:-//ChamberMaster//Event Calendar 2.0//EN
METHOD:PUBLISH
X-PUBLISHED-TTL:P3D
REFRESH-INTERVAL:P3D
CALSCALE:GREGORIAN
BEGIN:VEVENT
DTSTART:20150328T170000Z
DTEND:20150328T180000Z
X-MICROSOFT-CDO-ALLDAYEVENT:FALSE
SUMMARY:Easter Candy and Wine Pairing Workshop
DESCRIPTION:We all enjoy sweets but why not take it up a notch and pair your candy with wine. We will be pairing 10 candies with wine samples while giving you the tools to do this with your favorites.
X-ALT-DESC;FMTTYPE=text/html:We all enjoy sweets but why not take it up a notch and pair your candy with wine. We will be pairing 10 candies with wine samples while giving you the tools to do this with your favorites.
LOCATION:Adams County Winery\, 251 Peach Tree Rd\, Orrtanna PA 17353
UID:e.1500.788
SEQUENCE:3
DTSTAMP:20260423T104402Z
URL:https://business.hanoverchamber.com/events/details/easter-candy-and-wine-pairing-workshop-03-28-2015-788
END:VEVENT

END:VCALENDAR
