BEGIN:VCALENDAR
VERSION:2.0
PRODID:-//ChamberMaster//Event Calendar 2.0//EN
METHOD:PUBLISH
X-PUBLISHED-TTL:P3D
REFRESH-INTERVAL:P3D
CALSCALE:GREGORIAN
BEGIN:VEVENT
DTSTART:20150318T130000Z
DTEND:20150318T170000Z
X-MICROSOFT-CDO-ALLDAYEVENT:FALSE
SUMMARY:Discover Your Options in Manufacturing\, Trades\, and Technology
DESCRIPTION:Enter a chance to WIN $500 for tuition\n	Learn about HACC's programs in technology\, engineering and other trades programs\, including the new Mechatronics Certificate Programs starting in fall 2015\n	Enjoy a FREE lunch and tour thr campus\n	Network with HACC professors and local employees\n	Understand financial aid and scholarship options
X-ALT-DESC;FMTTYPE=text/html:<ul>\n	<li>Enter a chance to WIN $500 for tuition</li>\n	<li>Learn about HACC&#39\;s programs in technology\, engineering and other trades programs\, including the new Mechatronics Certificate Programs starting in fall 2015</li>\n	<li>Enjoy a FREE lunch and tour thr campus</li>\n	<li>Network with HACC professors and local employees</li>\n	<li>Understand financial aid and scholarship options</li>\n</ul>\n
LOCATION:HACC's Gettysburg Campus- Room 109 731 Old Harrisburg Road
UID:e.1500.868
SEQUENCE:3
DTSTAMP:20260423T104845Z
URL:https://business.hanoverchamber.com/events/details/discover-your-options-in-manufacturing-trades-and-technology-03-18-2015-868
END:VEVENT

END:VCALENDAR
