BEGIN:VCALENDAR
VERSION:2.0
PRODID:-//ChamberMaster//Event Calendar 2.0//EN
METHOD:PUBLISH
X-PUBLISHED-TTL:P3D
REFRESH-INTERVAL:P3D
CALSCALE:GREGORIAN
BEGIN:VEVENT
DTSTART:20150606T210000Z
DTEND:20150606T230000Z
X-MICROSOFT-CDO-ALLDAYEVENT:FALSE
SUMMARY:Dining in the Vines
DESCRIPTION:This al fresco dinner will be served at the top of the vineyard. While enjoying the view from our hillside vineyard\, guests will be entertained with live acoustic classic guitar. Our wines will be both paired and featured in each of the 5 courses prepared on site. Seating is limited and reservations are required. Ticket price is $85 per guest. The rain date for this dinner is June 13th. For more information please visit our website\, www.adamscountywinery.com\, or call 717-334-4631.
X-ALT-DESC;FMTTYPE=text/html:This al fresco dinner will be served at the top of the vineyard. While enjoying the view from our hillside vineyard\, guests will be entertained with live acoustic classic guitar. Our wines will be both paired and featured in each of the 5 courses prepared on site. Seating is limited and reservations are required. Ticket price is $85 per guest. The rain date for this dinner is June 13th. For more information please visit our website\, www.adamscountywinery.com\, or call 717-334-4631.
LOCATION:Adams County Winery 251 Peach Tree Rd Orrtanna\, PA 17353
UID:e.1500.879
SEQUENCE:3
DTSTAMP:20260423T052507Z
URL:https://business.hanoverchamber.com/events/details/dining-in-the-vines-06-06-2015-879
END:VEVENT

END:VCALENDAR
