BEGIN:VCALENDAR
VERSION:2.0
PRODID:-//ChamberMaster//Event Calendar 2.0//EN
METHOD:PUBLISH
X-PUBLISHED-TTL:P3D
REFRESH-INTERVAL:P3D
CALSCALE:GREGORIAN
BEGIN:VEVENT
DTSTART;VALUE=DATE:20170915
DTEND;VALUE=DATE:20170916
TRANSP:TRANSPARENT
X-MICROSOFT-CDO-ALLDAYEVENT:TRUE
SUMMARY:Corporate Challenge
DESCRIPTION:The Corporate Challenge is comprised of a full day of fun\, team-building activities and friendly competition including an obstacle course\, tug-of-war and dodge ball.
X-ALT-DESC;FMTTYPE=text/html:<span style="line-height: 20.8px\;">The Corporate Challenge is comprised of a full day of fun\, team-building activities and friendly competition including an obstacle course\, tug-of-war and dodge ball.</span>
LOCATION:Register today! Checks should be made payable to the Hanover Area Chamber of Commerce. Event will be held at Adams-York Sports Performance at 200 S. 4th Street\, McSherrystown
UID:e.1500.2279
SEQUENCE:3
DTSTAMP:20260421T121312Z
URL:https://business.hanoverchamber.com/events/details/corporate-challenge-2279
END:VEVENT

END:VCALENDAR
