BEGIN:VCALENDAR
VERSION:2.0
PRODID:-//ChamberMaster//Event Calendar 2.0//EN
METHOD:PUBLISH
X-PUBLISHED-TTL:P3D
REFRESH-INTERVAL:P3D
CALSCALE:GREGORIAN
BEGIN:VEVENT
DTSTART:20161216T163000Z
DTEND:20161216T183000Z
X-MICROSOFT-CDO-ALLDAYEVENT:FALSE
SUMMARY:Christmas Luncheon 2016
DESCRIPTION:Join us for the Hanover Chamber's Annual Christmas Luncheon\, presented by Wellspan Occupational Health and sponsored by APPI Energy.\n\n\n\nSeating is limited.  Please register in advance to reserve your seat!
X-ALT-DESC;FMTTYPE=text/html:Join us for the Hanover Chamber's Annual Christmas Luncheon\, presented by Wellspan&nbsp\;Occupational Health and sponsored by APPI Energy.<br>\n<br>\nSeating is limited. &nbsp\;Please register in advance to reserve your seat!
LOCATION:Hanover Country Club 200 E. Water St. Abbottstown\, PA
UID:e.1500.1206
SEQUENCE:3
DTSTAMP:20260422T024136Z
URL:https://business.hanoverchamber.com/events/details/christmas-luncheon-2016-12-16-2016-1206
END:VEVENT

END:VCALENDAR
