BEGIN:VCALENDAR
VERSION:2.0
PRODID:-//ChamberMaster//Event Calendar 2.0//EN
METHOD:PUBLISH
X-PUBLISHED-TTL:P3D
REFRESH-INTERVAL:P3D
CALSCALE:GREGORIAN
BEGIN:VEVENT
DTSTART:20150502T210000Z
DTEND:20150502T230000Z
X-MICROSOFT-CDO-ALLDAYEVENT:FALSE
SUMMARY:Choco de Mayo Wine Dinner at Adams County Winery
DESCRIPTION:This wine dinner celebrates all things chocolate. Chef Daneyon White will be preparing this 4 course dinner with chocolate in each course. Live acoustic classic guitar entertainment during the evening. Dinner will be served outside on our Garden Terrace\; weather permitting. Cost per guest is $65 and advance paid reservations are required. For more information please visit our website\, www.adamscountywinery.com\, or call 717-334-4631.
X-ALT-DESC;FMTTYPE=text/html:This wine dinner celebrates all things chocolate. Chef Daneyon White will be preparing this 4 course dinner with chocolate in each course. Live acoustic classic guitar entertainment during the evening. Dinner will be served outside on our Garden Terrace\; weather permitting. Cost per guest is $65 and advance paid reservations are required. For more information please visit our website\, www.adamscountywinery.com\, or call 717-334-4631.
LOCATION:Adams County Winery 251 Peach Tree Rd Orrtanna\, PA 17353
UID:e.1500.863
SEQUENCE:3
DTSTAMP:20260423T070610Z
URL:https://business.hanoverchamber.com/events/details/choco-de-mayo-wine-dinner-at-adams-county-winery-05-02-2015-863
END:VEVENT

END:VCALENDAR
