BEGIN:VCALENDAR
VERSION:2.0
PRODID:-//ChamberMaster//Event Calendar 2.0//EN
METHOD:PUBLISH
X-PUBLISHED-TTL:P3D
REFRESH-INTERVAL:P3D
CALSCALE:GREGORIAN
BEGIN:VEVENT
DTSTART:20160117T220000Z
DTEND:20160118T020000Z
X-MICROSOFT-CDO-ALLDAYEVENT:FALSE
SUMMARY:Chitty Chitty Bang Bang Movie Night
DESCRIPTION:Join us for a fun movie night with the classic Chitty Chitty Bang Bang on the big screen here at the AACA Museum where you'll be surrounded by lots of vintage cars. It's also your last chance to see the National Touring Chitty Chitty Bang Bang car live here at the AACA Museum.  Pajamas\, pillows\, blankets and stuffed animals are encouraged.\n\nAdmission to this event includes some kid friendly foods (i.e. hot dogs\, popcorn\, cookies\, hot chocolate\, pizza).  Enjoy the movie   a classic released in 1968 "Chitty Chitty Bang Bang" right here inside the AACA Museum. Movie will begin @ 6:00 PM and runs 144 minutes.  A down-on-his-luck inventor turns a broken-down Grand Prix car into a fancy vehicle for his children\, and they go off on a magical fantasy adventure to save their grandfather in a far-off land.   Staring Dick Van Dyke\, Sally Ann Howes and Lionel Jeffries. Written by Roald Dahl (screenplay) and Ian Fleming (novel).  Directed by Ken Hughes.\n\nAdvance tickets required. Regular Admission $18\, Children 4-12 Years   $15\, Children 3 & Under are FREE.
X-ALT-DESC;FMTTYPE=text/html:<p style="color: rgb(34\, 34\, 34)\; line-height: normal\; font-family: arial\, sans-serif\; font-size: 12.8px\;">Join us for a fun movie night with the classic Chitty Chitty Bang Bang on the big screen here at the AACA Museum where you&rsquo\;ll be surrounded by lots of vintage cars. It&rsquo\;s also your last chance to see the National Touring Chitty Chitty Bang Bang car live here at the AACA Museum.&nbsp\; Pajamas\, pillows\, blankets and stuffed animals are encouraged.</p>\n\n<p style="color: rgb(34\, 34\, 34)\; line-height: normal\; font-family: arial\, sans-serif\; font-size: 12.8px\;">Admission to this event includes some kid friendly foods (i.e. hot dogs\, popcorn\, cookies\, hot chocolate\, pizza).&nbsp\; Enjoy the movie&nbsp\;&ndash\; a classic released in 1968 &ldquo\;Chitty Chitty Bang Bang&rdquo\; right here inside the AACA Museum.&nbsp\;<strong>Movie will begin @ 6:00 PM</strong>&nbsp\;and runs 144 minutes.&nbsp\; A down-on-his-luck inventor turns a broken-down Grand Prix car into a fancy vehicle for his children\, and they go off on a magical fantasy adventure to save their grandfather in a far-off land.&nbsp\;&nbsp\; Staring Dick Van Dyke\, Sally Ann Howes and Lionel Jeffries.&nbsp\;Written by Roald Dahl (screenplay) and Ian Fleming (novel).&nbsp\; Directed by Ken Hughes.</p>\n\n<p style="color: rgb(34\, 34\, 34)\; line-height: normal\; font-family: arial\, sans-serif\; font-size: 12.8px\;"><strong>Advance tickets required. Regular Admission $18\, Children 4-12 Years &ndash\; $15\, Children 3 &amp\; Under are FREE.</strong></p>\n
LOCATION:AACA Museum 161 Museum Drive Hershey\, PA 17033
UID:e.1500.987
SEQUENCE:3
DTSTAMP:20260422T210039Z
URL:https://business.hanoverchamber.com/events/details/chitty-chitty-bang-bang-movie-night-01-17-2016-987
END:VEVENT

END:VCALENDAR
