BEGIN:VCALENDAR
VERSION:2.0
PRODID:-//ChamberMaster//Event Calendar 2.0//EN
METHOD:PUBLISH
X-PUBLISHED-TTL:P3D
REFRESH-INTERVAL:P3D
CALSCALE:GREGORIAN
BEGIN:VEVENT
DTSTART:20161023T133000Z
DTEND:20161023T160000Z
X-MICROSOFT-CDO-ALLDAYEVENT:FALSE
SUMMARY:Center Square Costume- Beer Run
DESCRIPTION:Stay tuned for more information on our upcoming Beer Dinner scheduled for October 21st...  It's going to be a "Beer" Weekend!
X-ALT-DESC;FMTTYPE=text/html:<strong><span style="color:#41291E\;"><span style="font-family:arial\,sans-serif\;"><span style="font-size:14.0pt\;">Stay tuned for more information on our&nbsp\;upcoming Beer Dinner scheduled for&nbsp\;October 21st...&nbsp\; It&#39\;s going to be a &quot\;Beer&quot\; Weekend!</span></span></span></strong>
LOCATION:Center Square Brewery at Altland House 1 Center Square Abbottstown\, PA
UID:e.1500.1246
SEQUENCE:3
DTSTAMP:20260422T055411Z
URL:https://business.hanoverchamber.com/events/details/center-square-costume-beer-run-1246
END:VEVENT

END:VCALENDAR
