BEGIN:VCALENDAR
VERSION:2.0
PRODID:-//ChamberMaster//Event Calendar 2.0//EN
METHOD:PUBLISH
X-PUBLISHED-TTL:P3D
REFRESH-INTERVAL:P3D
CALSCALE:GREGORIAN
BEGIN:VEVENT
DTSTART;VALUE=DATE:20150425
DTEND;VALUE=DATE:20150426
TRANSP:TRANSPARENT
X-MICROSOFT-CDO-ALLDAYEVENT:TRUE
SUMMARY:Castaway Critters Exotic Car Show
DESCRIPTION:Join us for our upcoming 5th Annual Exotic and Sports Car Show "Cool Cars for Cats and Canines" on Saturday\, April 25\, 2015 starting at 10 AM on the beautiful grounds of the AACA Museum in Hershey\, PA. Cars will be coming from all over the mid-Atlantic region- with over 180 cars and a record attendance over 500 people in previous years. And show your exotic car for a $20 donation   which included complimentary breakfast items and at ticket to the AACA Museum. Guests can visit vendors and sponsors\, try their luck at raffles and silent auctions\, vote for their favorite "cool car" in our People's Choice raffle\, and meet some adorable animals. The top cars will be awarded trophies\, judged by concours level judges and local celebrities. A $5 admission donation gets you up close and personal to these incredible cars. Kids 10 and under are FREE. 100% of the proceeds directly support the work and mission of Castaway Critters\, The James A. Hueholt Memorial Foundation for Animals. Castaway Critters is a 501 (C) 3\, no-kill animal rescue\, foster care network and spay/neuter charity. Castaway Critters has assisted and found homes for nearly 10\,000 animals since 2001. They specialize in helping sick\, injured or abused animals who face an uncertain future without their help and have nowhere else to turn.\n\nVisit the show's website at http://www.coolcarsforcatsandcanines.com/ for more information or to register YOUR incredible car!
X-ALT-DESC;FMTTYPE=text/html:<p style="margin: 0in 0in 0.0001pt\; line-height: 115%\; vertical-align: baseline\; background-image: initial\; background-attachment: initial\; background-size: initial\; background-origin: initial\; background-clip: initial\; background-position: initial\; background-repeat: initial\;"><span style="font-size:10.5pt\;line-height:115%\;\nfont-family:&quot\;Arial&quot\;\,sans-serif\;color:black\;mso-themecolor:text1">Join us for our upcoming 5<sup>th</sup> Annual Exotic and Sports Car Show &ldquo\;Cool Cars for Cats and Canines&rdquo\; on Saturday\, April 25\, 2015 starting at 10 AM on the beautiful grounds of the AACA Museum in Hershey\, PA. Cars will be coming from all over the mid-Atlantic region- with over 180 cars and a record attendance over 500 people in previous years. And show your exotic car for a $20 donation &ndash\; which included complimentary breakfast items and at ticket to the AACA Museum. Guests can visit vendors and sponsors\, try their luck at raffles and silent auctions\, vote for their favorite &ldquo\;cool car&rdquo\; in our People&rsquo\;s Choice raffle\, and meet some adorable animals. The top cars will be awarded trophies\, judged by concours level judges and local celebrities. A $5 admission donation gets you up close and personal to these incredible cars. Kids 10 and under are FREE. 100% of the proceeds directly support the work and mission of Castaway Critters\, The James A. Hueholt Memorial Foundation for Animals. Castaway Critters is a 501 (C) 3\, no-kill animal rescue\, foster care network and spay/neuter charity. Castaway Critters has assisted and found homes for nearly 10\,000 animals since 2001. They specialize in helping sick\, injured or abused animals who face an uncertain future without their&nbsp\;help and have nowhere else to turn.<o:p></o:p></span></p>\n\n<p style="margin: 0in 0in 0.0001pt\; line-height: 115%\; vertical-align: baseline\; background-image: initial\; background-attachment: initial\; background-size: initial\; background-origin: initial\; background-clip: initial\; background-position: initial\; background-repeat: initial\;"><span style="font-size:10.5pt\;line-height:115%\;\nfont-family:&quot\;Arial&quot\;\,sans-serif\;color:black\;mso-themecolor:text1">Visit the show&rsquo\;s website at<span class="apple-converted-space">&nbsp\;</span></span><a href="http://www.coolcarsforcatsandcanines.com/"><span style="font-size:10.5pt\;\nline-height:115%\;font-family:&quot\;Arial&quot\;\,sans-serif\;color:black\;mso-themecolor:\ntext1\;border:none windowtext 1.0pt\;mso-border-alt:none windowtext 0in\;\npadding:0in\;text-decoration:none\;text-underline:none">http://www.coolcarsforcatsandcanines.com/<span class="apple-converted-space">&nbsp\;</span></span></a><span style="font-size:\n10.5pt\;line-height:115%\;font-family:&quot\;Arial&quot\;\,sans-serif\;color:black\;mso-themecolor:\ntext1">for more information or to register YOUR incredible car!<o:p></o:p></span></p>\n
LOCATION:AACA Museum 161 Museum Drive Hershey\, PA 17033
UID:e.1500.855
SEQUENCE:3
DTSTAMP:20260423T085709Z
URL:https://business.hanoverchamber.com/events/details/castaway-critters-exotic-car-show-04-25-2015-855
END:VEVENT

END:VCALENDAR
