BEGIN:VCALENDAR
VERSION:2.0
PRODID:-//ChamberMaster//Event Calendar 2.0//EN
METHOD:PUBLISH
X-PUBLISHED-TTL:P3D
REFRESH-INTERVAL:P3D
CALSCALE:GREGORIAN
BEGIN:VEVENT
DTSTART:20150912T120000Z
DTEND:20150912T210000Z
X-MICROSOFT-CDO-ALLDAYEVENT:FALSE
SUMMARY:Car Wash Fundraiser
DESCRIPTION:Chili's of Hanover and Smooth Finishes Automotive Enhancements are partnering to hold a car wash fundraiser with at least 50% of the proceeds going to St. Jude Children's Research Hospital.
X-ALT-DESC;FMTTYPE=text/html:Chili&#39\;s of Hanover and Smooth Finishes Automotive Enhancements are partnering to hold a car wash fundraiser with at least 50% of the proceeds going to St. Jude Children&#39\;s Research Hospital.
LOCATION:Smooth Finishes Car Wash & Detail Center 1075 George Street Hanover\, PA 17331
UID:e.1500.968
SEQUENCE:3
DTSTAMP:20260423T011247Z
URL:https://business.hanoverchamber.com/events/details/car-wash-fundraiser-09-12-2015-968
END:VEVENT

END:VCALENDAR
