BEGIN:VCALENDAR
VERSION:2.0
PRODID:-//ChamberMaster//Event Calendar 2.0//EN
METHOD:PUBLISH
X-PUBLISHED-TTL:P3D
REFRESH-INTERVAL:P3D
CALSCALE:GREGORIAN
BEGIN:VEVENT
DTSTART:20180322T113000Z
DTEND:20180322T193000Z
X-MICROSOFT-CDO-ALLDAYEVENT:FALSE
SUMMARY:Business Growth Conference
DESCRIPTION:MANTEC's Business Growth Conference on March 22 will feature keynote speaker Kevin Jackson. In life and in business\, one of the most difficult things we must do is to reinvent ourselves\, to accept change and to find an innovative way to stay relevant before our ideas become dried up and no longer useful to anyone!  How have you reinvented yourself and your business?  In addition\, you can build your personal agenda with the choice of 12 diverse sessions and a Rapid Fire Smart Manufacturing Panel.
X-ALT-DESC;FMTTYPE=text/html:MANTEC&rsquo\;s Business Growth Conference on March 22 will feature keynote speaker Kevin Jackson. In life and in business\, one of the most difficult things we must do is to reinvent ourselves\, to accept change and to find an innovative way to stay relevant before our ideas become dried up and no longer useful to anyone!&nbsp\; How have you reinvented yourself and your business?&nbsp\; In addition\, you can build your personal agenda with the choice of 12 diverse sessions and a Rapid Fire Smart Manufacturing Panel.&nbsp\;
LOCATION:Spooky Nook Sports 75 Champ Blvd. Manheim\, PA 17545
UID:e.1500.4141
SEQUENCE:3
DTSTAMP:20260421T024456Z
URL:https://business.hanoverchamber.com/events/details/business-growth-conference-4141
END:VEVENT

END:VCALENDAR
