BEGIN:VCALENDAR
VERSION:2.0
PRODID:-//ChamberMaster//Event Calendar 2.0//EN
METHOD:PUBLISH
X-PUBLISHED-TTL:P3D
REFRESH-INTERVAL:P3D
CALSCALE:GREGORIAN
BEGIN:VEVENT
DTSTART:20170316T120000Z
DTEND:20170316T160000Z
X-MICROSOFT-CDO-ALLDAYEVENT:FALSE
SUMMARY:Building Stronger Nonprofits Through Better Financial Management
DESCRIPTION:Free half-day seminar for nonprofits presented by Smith Elliott Kearns & Company\, LLC! 4 hours of CPE credit will be provided for attendance.\n\n\n\nMore info and agenda here: http://www.sek.com/wp-content/uploads/2017/02/Nonprofit-Seminar-03.16.17-Invitation.pdf
X-ALT-DESC;FMTTYPE=text/html:Free half-day seminar for nonprofits presented by Smith Elliott Kearns &amp\; Company\, LLC! 4 hours of CPE credit will be provided for attendance.<br />\n<br />\nMore info and agenda here: <a href="http://www.sek.com/wp-content/uploads/2017/02/Nonprofit-Seminar-03.16.17-Invitation.pdf">http://www.sek.com/wp-content/uploads/2017/02/Nonprofit-Seminar-03.16.17-Invitation.pdf</a><br />\n<br />\n<br />\n&nbsp\;
LOCATION:Eisenhower Hotel & Conference Center 2634 Emmittsburg Road Gettysburg\, PA 17325
UID:e.1500.2330
SEQUENCE:3
DTSTAMP:20260421T220335Z
URL:https://business.hanoverchamber.com/events/details/building-stronger-nonprofits-through-better-financial-management-2330
END:VEVENT

END:VCALENDAR
