BEGIN:VCALENDAR
VERSION:2.0
PRODID:-//ChamberMaster//Event Calendar 2.0//EN
METHOD:PUBLISH
X-PUBLISHED-TTL:P3D
REFRESH-INTERVAL:P3D
CALSCALE:GREGORIAN
BEGIN:VEVENT
DTSTART:20180510T113000Z
DTEND:20180510T160000Z
X-MICROSOFT-CDO-ALLDAYEVENT:FALSE
SUMMARY:Building Stronger Nonprofits Through Better Financial Management
DESCRIPTION:To view event flyer and agenda\, please visit https://www.sek.com/sites/sek.com/files/2018NFPSeminar.pdf\n\nNonprofits: Increase your knowledge at Smith Elliott Kearns & Company\, LLC's free\, 2nd annual seminar. We will quickly get you up to speed on the changes affecting your organization during our rapid fire\, interactive sessions.\n\n4 hours of CPE credit will be provided for attendance!\n\nPlease RSVP by May 3rd. Email ktucker@sek.com with questions.\n\n\n\nWe reserve the right to give our clients and referral sources first priority and invite others to attend if space is available.
X-ALT-DESC;FMTTYPE=text/html:<p><strong>To view event flyer and agenda\, please visit <a href="https://www.sek.com/sites/sek.com/files/2018NFPSeminar.pdf" rel="noopener noreferrer nofollow" target="_blank">https://www.sek.com/sites/sek.com/files/2018NFPSeminar.pdf</a></strong></p>\n\n<p>Nonprofits: Increase your knowledge at&nbsp\;Smith Elliott Kearns &amp\; Company\, LLC&#39\;s&nbsp\;free\, 2nd annual seminar. We will quickly get you up to speed on the changes affecting your organization during our rapid fire\, interactive sessions.</p>\n\n<p>4 hours of CPE credit will be provided for attendance!</p>\n\n<p>Please RSVP by May 3rd. Email ktucker@sek.com with questions.<br />\n<br />\n<em>We reserve the right to give our clients and referral sources first priority and invite others to attend if space is available.</em></p>\n
LOCATION:Eisenhower Hotel & Conference Center 2634 Emmitsburg Road Gettysburg\, PA 17325
UID:e.1500.4217
SEQUENCE:3
DTSTAMP:20260420T233315Z
URL:https://business.hanoverchamber.com/events/details/building-stronger-nonprofits-through-better-financial-management-05-10-2018-4217
END:VEVENT

END:VCALENDAR
