BEGIN:VCALENDAR
VERSION:2.0
PRODID:-//ChamberMaster//Event Calendar 2.0//EN
METHOD:PUBLISH
X-PUBLISHED-TTL:P3D
REFRESH-INTERVAL:P3D
CALSCALE:GREGORIAN
BEGIN:VEVENT
DTSTART:20160903T180000Z
DTEND:20160903T200000Z
X-MICROSOFT-CDO-ALLDAYEVENT:FALSE
SUMMARY:Brian Neely: Places We Live Exhibit
DESCRIPTION:Hanover resident Brian Neely shares the photographs he has taken around the world in his exhibit\, Brian Neely: Places We Live.\n\n\n\nThe show can be seen throughout September at Art Downtown\, 32 Carlisle St.\, Hanover.\n\n\n\nAn opening reception is planned for the exhibit at Art Downtown. The reception\, for family\, friends and the community\, is set for 2-4 p.m. Sept. 3\, at the Art Downtown Gallery\, 32 Carlisle St.\, Hanover.\n\n\n\nThere is no charge. The gallery of the Hanover Area Arts Guild is always free.
X-ALT-DESC;FMTTYPE=text/html:Hanover resident Brian Neely shares the photographs he has taken around the world in his exhibit\, Brian Neely: Places We Live.<br />\n<br />\nThe show can be seen throughout September at Art Downtown\, 32 Carlisle St.\, Hanover.<br />\n<br />\nAn opening reception is planned for the exhibit at Art Downtown. The reception\, for family\, friends and the community\, is set for 2-4 p.m. Sept. 3\, at the Art Downtown Gallery\, 32 Carlisle St.\, Hanover.<br />\n<br />\nThere is no charge. The gallery of the Hanover Area Arts Guild is always free.<br />\n&nbsp\;
LOCATION:Art Downtown\, 32 Carlisle St.\, just steps off the Square\, in historic Hanover
UID:e.1500.1214
SEQUENCE:3
DTSTAMP:20260422T073915Z
URL:https://business.hanoverchamber.com/events/details/brian-neely-places-we-live-exhibit-1214
END:VEVENT

END:VCALENDAR
