BEGIN:VCALENDAR
VERSION:2.0
PRODID:-//ChamberMaster//Event Calendar 2.0//EN
METHOD:PUBLISH
X-PUBLISHED-TTL:P3D
REFRESH-INTERVAL:P3D
CALSCALE:GREGORIAN
BEGIN:VEVENT
DTSTART:20161021T160000Z
DTEND:20161021T230000Z
X-MICROSOFT-CDO-ALLDAYEVENT:FALSE
SUMMARY:Breast Cancer Awareness and the Arts
DESCRIPTION:BREAST CANCER AWARENSS AND THE ARTS\n\nThe Hanover Area Arts Guild highlights the artist of the month\, Neale C Knight\, in conjunction with Breast Cancer Awareness month for October. Proceeds from the sale of her work is used to educate others about this illness as well as fight this disease. Throughout the month of October her work will be featured in the window of the art guild at 32 Carlisle St\, Hanover\, PA\, 17331. To see her work and learn more\, go to www.hanoverareaarts.com or call 717-632-2521.
X-ALT-DESC;FMTTYPE=text/html:<h6 style="margin-top: 0px\; margin-right: 0px\; margin-left: 0px\; font-family: Arial\, Helvetica\, sans-serif\; line-height: 11px\; color: rgb(38\, 38\, 38)\; text-rendering: optimizeLegibility\; text-transform: uppercase\; font-size: 11px\; margin-bottom: 10px !important\; background-color: rgb(255\, 255\, 255)\;">BREAST CANCER AWARENSS AND THE ARTS</h6>\n\n<p itemprop="description" style="margin: 0px 0px 9px\; line-height: 1.4\; color: rgb(61\, 61\, 61)\; font-family: Arial\, Helvetica\, sans-serif\; font-size: 11px\; background-color: rgb(255\, 255\, 255)\;">The Hanover Area Arts Guild highlights the artist of the month\, Neale C Knight\, in conjunction with Breast Cancer Awareness month for October. Proceeds from the sale of her work is used to educate others about this illness as well as fight this disease. Throughout the month of October her work will be featured in the window of the art guild at 32 Carlisle St\, Hanover\, PA\, 17331. To see her work and learn more\, go to www.hanoverareaarts.com or call 717-632-2521.</p>\n
LOCATION:32 Carlisle St\, Hanover\, PA\, 17331
UID:e.1500.1233
SEQUENCE:3
DTSTAMP:20260422T055744Z
URL:https://business.hanoverchamber.com/events/details/breast-cancer-awareness-and-the-arts-1233
END:VEVENT

END:VCALENDAR
