BEGIN:VCALENDAR
VERSION:2.0
PRODID:-//ChamberMaster//Event Calendar 2.0//EN
METHOD:PUBLISH
X-PUBLISHED-TTL:P3D
REFRESH-INTERVAL:P3D
CALSCALE:GREGORIAN
BEGIN:VEVENT
DTSTART:20170419T223000Z
DTEND:20170420T003000Z
X-MICROSOFT-CDO-ALLDAYEVENT:FALSE
SUMMARY:Boys & Dads
DESCRIPTION:This program for dads and their sons focuses on puberty and the natural changes that occur during adolescence. Topics include stages of human development\, the major events of puberty\, and reproductive system basics. These issues are discussed in a simple way with a comforting atmosphere by an exceptionally quali?ed health educator. Since dad and son are learning together\, the barriers for conversation are reduced.  Cost is $14 per person.  Register online at www.byrneshec.org/events
X-ALT-DESC;FMTTYPE=text/html:<span style="color:rgb(102\, 102\, 102)\; font-family:arial">This program for dads and their sons focuses on puberty and the natural changes that occur during adolescence. Topics include stages of human development\, the major events of puberty\, and reproductive system basics. These issues are discussed in a simple way with a comforting atmosphere by an exceptionally quali?ed health educator. Since dad and son are learning together\, the barriers for conversation are reduced.&nbsp\; Cost is $14 per person. &nbsp\;Register online at www.byrneshec.org/events</span>
LOCATION:Byrnes Health Education Center 515 South George Street York\, PA 17401
UID:e.1500.1199
SEQUENCE:3
DTSTAMP:20260421T214451Z
URL:https://business.hanoverchamber.com/events/details/boys-dads-04-19-2017-1199
END:VEVENT

END:VCALENDAR
