BEGIN:VCALENDAR
VERSION:2.0
PRODID:-//ChamberMaster//Event Calendar 2.0//EN
METHOD:PUBLISH
X-PUBLISHED-TTL:P3D
REFRESH-INTERVAL:P3D
CALSCALE:GREGORIAN
BEGIN:VEVENT
DTSTART:20171005T210000Z
DTEND:20171006T000000Z
X-MICROSOFT-CDO-ALLDAYEVENT:FALSE
SUMMARY:BoardWALK to Health
DESCRIPTION:TrueNorth Wellness Services\, a behavioral health and wellness organization with offices across central Pa.\, will host "BoardWALK to Health\," an interactive\, family-friendly health and wellness fair Thursday\, Oct. 5\, at South Western High School in Hanover.
X-ALT-DESC;FMTTYPE=text/html:<a href="http://truenorthwellness.org/"><span style="font-family:century gothic\,sans-serif\;"><span style="font-size:10.0pt\;">TrueNorth Wellness Services</span></span></a><span style="font-family:century gothic\,sans-serif\;"><span style="font-size:10.0pt\;">\, a behavioral health and wellness organization with offices across central Pa.\, will host &ldquo\;BoardWALK to Health\,&rdquo\; an interactive\, family-friendly health and wellness fair Thursday\, Oct. 5\, at South Western High School in Hanover.</span></span>
LOCATION:South Western High School
UID:e.1500.3010
SEQUENCE:3
DTSTAMP:20260421T121809Z
URL:https://business.hanoverchamber.com/events/details/boardwalk-to-health-3010
END:VEVENT

END:VCALENDAR
