BEGIN:VCALENDAR
VERSION:2.0
PRODID:-//ChamberMaster//Event Calendar 2.0//EN
METHOD:PUBLISH
X-PUBLISHED-TTL:P3D
REFRESH-INTERVAL:P3D
CALSCALE:GREGORIAN
BEGIN:VEVENT
DTSTART:20150821T140000Z
DTEND:20150821T220000Z
X-MICROSOFT-CDO-ALLDAYEVENT:FALSE
SUMMARY:BLOOD DRIVE
DESCRIPTION:DID YOU KNOW... One pint of blood can save THREE people's lives? The Central Pennsylvania Blood Bank will be at the Markets collecting blood donations. Meet up in our Community Event Center Thank you in advance for your support! FREE snacks & tee shirts for all donors.
X-ALT-DESC;FMTTYPE=text/html:DID YOU KNOW... One pint of blood can save THREE people&#39\;s lives? The Central Pennsylvania Blood Bank will be at the Markets collecting blood donations. Meet up in our Community Event Center Thank you in advance for your support! FREE snacks &amp\; tee shirts for all donors.
LOCATION:The Markets at Hanover 1649 Broadway Hanover\, PA 17331
UID:e.1500.954
SEQUENCE:3
DTSTAMP:20260423T023209Z
URL:https://business.hanoverchamber.com/events/details/blood-drive-08-21-2015-954
END:VEVENT

END:VCALENDAR
