BEGIN:VCALENDAR
VERSION:2.0
PRODID:-//ChamberMaster//Event Calendar 2.0//EN
METHOD:PUBLISH
X-PUBLISHED-TTL:P3D
REFRESH-INTERVAL:P3D
CALSCALE:GREGORIAN
BEGIN:VEVENT
DTSTART:20150813T200000Z
DTEND:20150813T220000Z
X-MICROSOFT-CDO-ALLDAYEVENT:FALSE
SUMMARY:BINGO at The Markets at Hanover
DESCRIPTION:Enjoy a fun and friendly game of BINGO at The Markets at Hanover. Play two cards for twenty-five cents for the chance to win prizes. Proceeds benefit trueNorth Wellness\, a local non-profit organization.
X-ALT-DESC;FMTTYPE=text/html:Enjoy a fun and friendly game of BINGO at The Markets at Hanover. Play two cards for twenty-five cents for the chance to win prizes. Proceeds benefit trueNorth Wellness\, a local non-profit organization.
LOCATION:The Markets at Hanover
UID:e.1500.951
SEQUENCE:3
DTSTAMP:20260423T024209Z
URL:https://business.hanoverchamber.com/events/details/bingo-at-the-markets-at-hanover-08-13-2015-951
END:VEVENT

END:VCALENDAR
