BEGIN:VCALENDAR
VERSION:2.0
PRODID:-//ChamberMaster//Event Calendar 2.0//EN
METHOD:PUBLISH
X-PUBLISHED-TTL:P3D
REFRESH-INTERVAL:P3D
CALSCALE:GREGORIAN
BEGIN:VEVENT
DTSTART:20170523T153000Z
DTEND:20170523T180000Z
X-MICROSOFT-CDO-ALLDAYEVENT:FALSE
SUMMARY:Avoidance and Defense of Employment Claims
DESCRIPTION:It is estimated that 90% of employment claims could be avoided or significantly minimized by best practices and diligent documentation.  \n\n\n\nJoin Stock and Leader's Employment Law Group for a lunch program addressing strategies for protecting and defending your organization against employment claims.\n\n\n\nLearn about:\n\n\n\nHarassment\n\nAvoidance of liability for sexual or other harassment.\n\n\n\nYou've Been Sued!  Now What?\n\nPractice and Procedure before the PHRC and EEOC.\n\n\n\nEmployee Discipline and Performance Evaluations\n\nBest Practices for effective evaluation and employee discipline.\n\n\n\n$50 registration fee and reservations required by May 16.\n\n\n\nThis program has been submitted to the HR Certification Institute for Review\n\n\n\nThis program has been submitted for SHRM credits.
X-ALT-DESC;FMTTYPE=text/html:It is estimated that 90% of employment claims could be avoided or significantly minimized&nbsp\;by best practices and diligent documentation. &nbsp\;<br />\n<br />\nJoin <a href="http://www.stockandleader.com/">Stock and Leader&rsquo\;s</a> <a href="http://www.stockandleader.com/business-law/employment-labor-attorneys">Employment Law Group</a> for a&nbsp\;lunch program addressing strategies for protecting and defending your organization against employment claims.<br />\n<br />\n<em>Learn about:</em><br />\n<br />\n<strong>Harassment</strong><br />\n<em>Avoidance of liability for sexual or other harassment.</em><br />\n<br />\n<strong>You&rsquo\;ve Been Sued! &nbsp\;Now What?</strong><br />\n<em>Practice and Procedure before the PHRC and EEOC.</em><br />\n<br />\n<strong>Employee Discipline and Performance Evaluations</strong><br />\n<em>Best Practices for effective evaluation and employee discipline.<br />\n<br />\n<strong>$50 registration fee and reservations required by May 16.</strong><br />\n<br />\nThis program has been submitted to the HR Certification Institute for Review<br />\n<br />\nThis program has been submitted for SHRM credits.</em>
LOCATION:Country Club of York 1400 Country Club Rd\, York\, PA 17403
UID:e.1500.2511
SEQUENCE:3
DTSTAMP:20260421T202501Z
URL:https://business.hanoverchamber.com/events/details/avoidance-and-defense-of-employment-claims-2511
END:VEVENT

END:VCALENDAR
