BEGIN:VCALENDAR
VERSION:2.0
PRODID:-//ChamberMaster//Event Calendar 2.0//EN
METHOD:PUBLISH
X-PUBLISHED-TTL:P3D
REFRESH-INTERVAL:P3D
CALSCALE:GREGORIAN
BEGIN:VEVENT
DTSTART:20160209T163000Z
DTEND:20160209T190000Z
X-MICROSOFT-CDO-ALLDAYEVENT:FALSE
SUMMARY:Annual Employment Law Update
DESCRIPTION:Join members of Stock and Leader's Employment Group for a lunch program addressing the latest topics in employment law.\n\n \n\n11:30 a.m. - 12:00 p.m.  Lunch\n\n12:00 - 2:00 p.m.  Program\n\n \n\nImmigration Updates\n\n\n	I-9 Overview \n	Visa Waiver Program\n\nWage and Hour Compliance Updates\n\n\n	Proposed Changes to FLSA Overtime Regulations\n	New Rules for Internships\n	Employee Misclassification\n	Joint Employment\n\nEEO Updates\n\n\n	ADA\n	ADEA\n	Title VII \n\n$50.00 registration fee and reservations required by February 2.\n\n \n\nPlease direct payment to:\n\n\n\nStock and Leader\, Attorneys at Law\n\nAttn: Emily Kustanbauter\n\n221 W. Philadelphia Street\, Suite 600\n\nYork\, PA 17401\n\n \n\nFor credit card payments\, contact Emily Kustanbauter\, 717.846.9800.\n\n \n\nNo shows will not be refunded but will receive program materials.\n\n \n\nThis program has been submitted to the HR Certification Institute for Review.\n\n\n\nThis program may be submitted for SHRM credits.
X-ALT-DESC;FMTTYPE=text/html:Join members of <a href="http://www.stockandleader.com/">Stock and Leader&#39\;s</a> <a href="http://www.stockandleader.com/services/businesses-and-entrepreneurs/employment-and-labor-relations.aspx">Employment Group</a>&nbsp\;for a lunch program addressing the latest topics in employment law.<br />\n&nbsp\;<br />\n11:30 a.m. - 12:00 p.m. &nbsp\;Lunch<br />\n12:00 - 2:00 p.m. &nbsp\;Program<br />\n&nbsp\;<br />\n<strong>Immigration Updates</strong>\n\n<ul>\n	<li>I-9 Overview&nbsp\;</li>\n	<li>Visa Waiver Program</li>\n</ul>\n<strong>Wage and Hour Compliance Updates</strong>\n\n<ul>\n	<li>Proposed Changes to FLSA Overtime Regulations</li>\n	<li>New Rules for Internships</li>\n	<li>Employee Misclassification</li>\n	<li>Joint Employment</li>\n</ul>\n<strong>EEO Updates</strong>\n\n<ul>\n	<li>ADA</li>\n	<li>ADEA</li>\n	<li>Title VII&nbsp\;</li>\n</ul>\n<strong>$50.00 registration fee and reservations required by February 2.</strong><br />\n&nbsp\;<br />\n<em>Please direct payment to:</em><br />\n<br />\nStock and Leader\, Attorneys at Law<br />\nAttn: Emily Kustanbauter<br />\n221 W. Philadelphia Street\, Suite 600<br />\nYork\, PA 17401<br />\n&nbsp\;<br />\n<em>For credit card payments\, contact Emily Kustanbauter\, 717.846.9800.</em><br />\n&nbsp\;<br />\n<em>No shows will not be refunded but will receive program materials.</em><br />\n&nbsp\;<br />\n<em>This program has been submitted to the HR Certification Institute for Review.</em><br />\n<br />\n<em>This program may be submitted for SHRM credits.</em>
LOCATION:Country Club of York 1400 Country Club Road York\, PA 17403
UID:e.1500.1043
SEQUENCE:3
DTSTAMP:20260422T175521Z
URL:https://business.hanoverchamber.com/events/details/annual-employment-law-update-02-09-2016-1043
END:VEVENT

END:VCALENDAR
