BEGIN:VCALENDAR
VERSION:2.0
PRODID:-//ChamberMaster//Event Calendar 2.0//EN
METHOD:PUBLISH
X-PUBLISHED-TTL:P3D
REFRESH-INTERVAL:P3D
CALSCALE:GREGORIAN
BEGIN:VEVENT
DTSTART:20171202T190000Z
DTEND:20171202T210000Z
X-MICROSOFT-CDO-ALLDAYEVENT:FALSE
SUMMARY:Annual Christmas Tea and Tree Tour
DESCRIPTION:Ticket reservations begin Nov. 1
X-ALT-DESC;FMTTYPE=text/html:Ticket reservations begin Nov. 1&nbsp\;
LOCATION:Warehime-Myers Mansion 305 Baltimore St.\, Hanover
UID:e.1500.3098
SEQUENCE:3
DTSTAMP:20260421T092721Z
URL:https://business.hanoverchamber.com/events/details/annual-christmas-tea-and-tree-tour-3098
END:VEVENT

END:VCALENDAR
