BEGIN:VCALENDAR
VERSION:2.0
PRODID:-//ChamberMaster//Event Calendar 2.0//EN
METHOD:PUBLISH
X-PUBLISHED-TTL:P3D
REFRESH-INTERVAL:P3D
CALSCALE:GREGORIAN
BEGIN:VEVENT
DTSTART:20171019T160000Z
DTEND:20171019T170000Z
X-MICROSOFT-CDO-ALLDAYEVENT:FALSE
SUMMARY:Annual Board of Directors Meeting 2017
DESCRIPTION:All chamber members are invited to attend the Annual Meeting to learn more about the organization's accomplishments and goals for the upcoming year.  The floor will be open for questions from members following the meeting. \n\n\n\nThe Annual Meeting is sponsored by APPI Energy.\n\n\n\nA light lunch will be served.  This event is complimentary\; please RSVP no later than October 17 so that we can accommodate all guests.
X-ALT-DESC;FMTTYPE=text/html:All chamber members are invited to attend the Annual Meeting to learn more about the organization&#39\;s accomplishments and goals for the upcoming year. &nbsp\;The floor will be open for questions from members following the meeting.&nbsp\;<br />\n<br />\nThe Annual Meeting is sponsored by APPI Energy.<br />\n<br />\nA light lunch will be served. &nbsp\;This event is complimentary\; please RSVP no later than October 17 so that we can accommodate all guests.
LOCATION:Guthrie Memorial Library 2 Library Place Hanover\, PA 17331
UID:e.1500.3024
SEQUENCE:3
DTSTAMP:20260421T110049Z
URL:https://business.hanoverchamber.com/events/details/annual-board-of-directors-meeting-2017-3024
END:VEVENT

END:VCALENDAR
