BEGIN:VCALENDAR
VERSION:2.0
PRODID:-//ChamberMaster//Event Calendar 2.0//EN
METHOD:PUBLISH
X-PUBLISHED-TTL:P3D
REFRESH-INTERVAL:P3D
CALSCALE:GREGORIAN
BEGIN:VEVENT
DTSTART:20150919T140000Z
DTEND:20150919T160000Z
X-MICROSOFT-CDO-ALLDAYEVENT:FALSE
SUMMARY:American Girl Tea Party Hosted by YWCA Hanover
DESCRIPTION:Tea\, refreshments\, games\, prizes\, entertainment\, and shopping will fill your morning!
X-ALT-DESC;FMTTYPE=text/html:<span style="color: rgb(77\, 77\, 77)\; font-family: &quot\;Verdana&quot\;\,&quot\;sans-serif&quot\;\; font-size: 11pt\; mso-fareast-font-family: Calibri\; mso-fareast-theme-font: minor-latin\; mso-bidi-font-family: Calibri\; mso-ansi-language: EN-US\; mso-fareast-language: EN-US\; mso-bidi-language: AR-SA\;"><v:shapetype coordsize="21600\,21600" filled="f" id="_x0000_t75" o:preferrelative="t" o:spt="75" path="m@4@5l@4@11@9@11@9@5xe" stroked="f">&nbsp\;<v:stroke joinstyle="miter">&nbsp\;<v:formulas>&nbsp\;<v:f eqn="if lineDrawn pixelLineWidth 0">&nbsp\;<v:f eqn="sum @0 1 0">&nbsp\;<v:f eqn="sum 0 0 @1">&nbsp\;<v:f eqn="prod @2 1 2">&nbsp\;<v:f eqn="prod @3 21600 pixelWidth">&nbsp\;<v:f eqn="prod @3 21600 pixelHeight">&nbsp\;<v:f eqn="sum @0 0 1">&nbsp\;<v:f eqn="prod @6 1 2">&nbsp\;<v:f eqn="prod @7 21600 pixelWidth">&nbsp\;<v:f eqn="sum @8 21600 0">&nbsp\;<v:f eqn="prod @7 21600 pixelHeight">&nbsp\;<v:f eqn="sum @10 21600 0">&nbsp\;</v:f></v:f></v:f></v:f></v:f></v:f></v:f></v:f></v:f></v:f></v:f></v:f></v:formulas>&nbsp\;<v:path gradientshapeok="t" o:connecttype="rect" o:extrusionok="f">&nbsp\;<o:lock aspectratio="t" v:ext="edit">&nbsp\;</o:lock></v:path></v:stroke></v:shapetype><v:shape alt="Tea" id="_x0000_i1025" style="width: 324pt\; height: 419.25pt\;" type="#_x0000_t75">&nbsp\;<v:imagedata o:href="cid:image004.jpg@01D0B7ED.CF5CEC10" src="file:///C:\\Users\\NNeal\\AppData\\Local\\Temp\\msohtmlclip1\\01\\clip_image001.jpg"> </v:imagedata></v:shape></span><br />\nTea\, refreshments\, games\, prizes\, entertainment\, and shopping will fill your morning!
LOCATION:YWCA Hanover 23 W. Chestnut Street Hanover\, PA
UID:e.1500.942
SEQUENCE:3
DTSTAMP:20260423T011821Z
URL:https://business.hanoverchamber.com/events/details/american-girl-tea-party-hosted-by-ywca-hanover-09-19-2015-942
END:VEVENT

END:VCALENDAR
