BEGIN:VCALENDAR
VERSION:2.0
PRODID:-//ChamberMaster//Event Calendar 2.0//EN
METHOD:PUBLISH
X-PUBLISHED-TTL:P3D
REFRESH-INTERVAL:P3D
CALSCALE:GREGORIAN
BEGIN:VEVENT
DTSTART:20170526T230000Z
DTEND:20170527T020000Z
X-MICROSOFT-CDO-ALLDAYEVENT:FALSE
SUMMARY:Acoustic Night at Bourbon Bar & Grill
DESCRIPTION:Every other Friday night Bourbon Bar & Grill will be holding acoustic night from 7-10PM. Stop by and enjoy some great live music & a few cold drinks! \n\n\n\nJanuary 6th: Nick Wallin \n\nJanuary 20th: Social Dilemma \n\nFebruary 17th: Catalyst \n\nMarch 3rd: Elly Cooke \n\nMarch 31st: Austin Rife \n\nApril 14th: Callie Tomblin \n\nApril 28th: Brian Colgan \n\nMay 12th: Devon Cayro
X-ALT-DESC;FMTTYPE=text/html:Every other Friday night Bourbon Bar &amp\; Grill will be holding acoustic night from 7-10PM. Stop by and enjoy some great live music &amp\; a few cold drinks!&nbsp\;<br />\n<br />\nJanuary 6th: Nick Wallin&nbsp\;<br />\nJanuary 20th: Social Dilemma&nbsp\;<br />\nFebruary 17th: Catalyst&nbsp\;<br />\nMarch 3rd: Elly Cooke&nbsp\;<br />\nMarch 31st: Austin Rife&nbsp\;<br />\nApril 14th: Callie Tomblin&nbsp\;<br />\nApril 28th: Brian Colgan&nbsp\;<br />\nMay 12th: Devon Cayro&nbsp\;
LOCATION:1080 Carlisle Street Hanover\, PA 17331
UID:e.1500.2318
SEQUENCE:3
DTSTAMP:20260421T190946Z
URL:https://business.hanoverchamber.com/events/details/acoustic-night-at-bourbon-bar-grill-05-26-2017-2318
END:VEVENT

END:VCALENDAR
