BEGIN:VCALENDAR
VERSION:2.0
PRODID:-//ChamberMaster//Event Calendar 2.0//EN
METHOD:PUBLISH
X-PUBLISHED-TTL:P3D
REFRESH-INTERVAL:P3D
CALSCALE:GREGORIAN
BEGIN:VEVENT
DTSTART:20170815T140000Z
DTEND:20170815T210000Z
X-MICROSOFT-CDO-ALLDAYEVENT:FALSE
SUMMARY:$99 and Under Sale
DESCRIPTION:
X-ALT-DESC;FMTTYPE=text/html:
LOCATION:Hanover Area Arts Guild
UID:e.1500.2970
SEQUENCE:3
DTSTAMP:20260421T140931Z
URL:https://business.hanoverchamber.com/events/details/99-and-under-sale-08-15-2017-2970
END:VEVENT

END:VCALENDAR
