BEGIN:VCALENDAR
VERSION:2.0
PRODID:-//ChamberMaster//Event Calendar 2.0//EN
METHOD:PUBLISH
X-PUBLISHED-TTL:P3D
REFRESH-INTERVAL:P3D
CALSCALE:GREGORIAN
BEGIN:VEVENT
DTSTART:20160605T190000Z
DTEND:20160605T200000Z
X-MICROSOFT-CDO-ALLDAYEVENT:FALSE
SUMMARY:8th Annual VNA of Hanover & Spring Grove Butterfly Release
DESCRIPTION:The 8th Annual VNA Hospice "Wings of Hope" Butterfly Release is a family-friendly event that is open to the public. Butterflies may be purchased to honor or memorialize a loved one or friend by contacting the VNA at 717-637-1227 or by accessing an order form on our website: www.vnahanover.org. All proceeds benefit the VNA Hospice program to assist patients in need. The release will be preceded by a brief Celebration of Life Service. Please bring a lawn chair or blanket and join us!
X-ALT-DESC;FMTTYPE=text/html:The 8th Annual VNA Hospice &quot\;Wings of Hope&quot\; Butterfly Release is a family-friendly event that is open to the public. Butterflies may be purchased to honor or memorialize a loved one or friend by contacting the VNA at 717-637-1227 or by accessing an order form on our website: www.vnahanover.org. All proceeds benefit the VNA Hospice program to assist patients in need. The release will be preceded by a brief Celebration of Life Service. Please bring a lawn chair or blanket and join us!
LOCATION:St. David's Evangelical Lutheran Church\, 1032 Musselman Road\, Hanover\, PA
UID:e.1500.1112
SEQUENCE:3
DTSTAMP:20260422T120628Z
URL:https://business.hanoverchamber.com/events/details/8th-annual-vna-of-hanover-spring-grove-butterfly-release-06-05-2016-1112
END:VEVENT

END:VCALENDAR
